BEGIN:VCALENDAR
VERSION:2.0
PRODID:-//Capital City Church - ECPv5.9.2//NONSGML v1.0//EN
CALSCALE:GREGORIAN
METHOD:PUBLISH
X-WR-CALNAME:Capital City Church
X-ORIGINAL-URL:https://capitalcitycog.org
X-WR-CALDESC:Events for Capital City Church
BEGIN:VTIMEZONE
TZID:UTC
BEGIN:STANDARD
TZOFFSETFROM:+0000
TZOFFSETTO:+0000
TZNAME:UTC
DTSTART:20250101T000000
END:STANDARD
END:VTIMEZONE
BEGIN:VEVENT
DTSTART;TZID=UTC:20251130T100000
DTEND;TZID=UTC:20251130T113000
DTSTAMP:20260422T230922
CREATED:20250827T152339Z
LAST-MODIFIED:20250827T152339Z
UID:29110-1764496800-1764502200@capitalcitycog.org
SUMMARY:UPPER ROOM WORSHIP SERVICE
DESCRIPTION:Join us for Upper Room Sunday at 10 AM (one service only).\nCome with your family for a powerful morning of\nprayer\, worship\, testimonies\, and celebrating the goodness of God.\nWe hope to see you there!
URL:https://capitalcitycog.org/event/upper-room-worship-service/
ATTACH;FMTTYPE=image/jpeg:https://capitalcitycog.org/wp-content/uploads/2025/08/Promo_Slide.jpg
END:VEVENT
END:VCALENDAR