BEGIN:VCALENDAR
VERSION:2.0
PRODID:-//Capital City Church - ECPv5.9.2//NONSGML v1.0//EN
CALSCALE:GREGORIAN
METHOD:PUBLISH
X-WR-CALNAME:Capital City Church
X-ORIGINAL-URL:https://capitalcitycog.org
X-WR-CALDESC:Events for Capital City Church
BEGIN:VTIMEZONE
TZID:UTC
BEGIN:STANDARD
TZOFFSETFROM:+0000
TZOFFSETTO:+0000
TZNAME:UTC
DTSTART:20250101T000000
END:STANDARD
END:VTIMEZONE
BEGIN:VEVENT
DTSTART;TZID=UTC:20251224T180000
DTEND;TZID=UTC:20251224T190000
DTSTAMP:20260422T214604
CREATED:20250827T134812Z
LAST-MODIFIED:20250827T134812Z
UID:29098-1766599200-1766602800@capitalcitycog.org
SUMMARY:Christmas Eve Service
DESCRIPTION:“Join us for our Christmas Candlelight Service at 6 PM!\nWe’ll sing carols\, hear the Christmas story\,\nand celebrate the birth of our Lord and Savior.\nMerry Christmas—we can’t wait to see you and your family there!”
URL:https://capitalcitycog.org/event/christmas-eve-service-4/
ATTACH;FMTTYPE=image/png:https://capitalcitycog.org/wp-content/uploads/2025/08/IMG_0112.png
END:VEVENT
END:VCALENDAR