BEGIN:VCALENDAR
VERSION:2.0
PRODID:-//Capital City Church - ECPv5.9.2//NONSGML v1.0//EN
CALSCALE:GREGORIAN
METHOD:PUBLISH
X-WR-CALNAME:Capital City Church
X-ORIGINAL-URL:https://capitalcitycog.org
X-WR-CALDESC:Events for Capital City Church
BEGIN:VTIMEZONE
TZID:UTC
BEGIN:STANDARD
TZOFFSETFROM:+0000
TZOFFSETTO:+0000
TZNAME:UTC
DTSTART:20260101T000000
END:STANDARD
END:VTIMEZONE
BEGIN:VEVENT
DTSTART;TZID=UTC:20260307T170000
DTEND;TZID=UTC:20260307T183000
DTSTAMP:20260422T155341
CREATED:20260213T154943Z
LAST-MODIFIED:20260213T154943Z
UID:29192-1772902800-1772908200@capitalcitycog.org
SUMMARY:OASIS GUEST SPEAKER 🚓
DESCRIPTION:Oasis 55+ – Fire & Safety Fellowship Night \nMarch 7 | 5:00 PM \nJoin us for an evening of fellowship\, food\, and fun as we welcome a special guest speaker who will share important insights on fire safety\, sheriff updates\, and practical ways to stay safe in our community. \nEnjoy great conversation\, delicious food\, lighthearted games\, and valuable safety information that will help equip and empower you. It’s a night to connect\, learn\, and grow together in wisdom and awareness. \nInvite a friend and come be part of this meaningful and enjoyable evening!
URL:https://capitalcitycog.org/event/oasis-guest-speaker-%f0%9f%9a%93/
ATTACH;FMTTYPE=image/jpeg:https://capitalcitycog.org/wp-content/uploads/2026/02/IMG_0274.jpeg
END:VEVENT
END:VCALENDAR