BEGIN:VCALENDAR
VERSION:2.0
PRODID:-//Capital City Church - ECPv5.9.2//NONSGML v1.0//EN
CALSCALE:GREGORIAN
METHOD:PUBLISH
X-WR-CALNAME:Capital City Church
X-ORIGINAL-URL:https://capitalcitycog.org
X-WR-CALDESC:Events for Capital City Church
BEGIN:VTIMEZONE
TZID:UTC
BEGIN:STANDARD
TZOFFSETFROM:+0000
TZOFFSETTO:+0000
TZNAME:UTC
DTSTART:20230101T000000
END:STANDARD
END:VTIMEZONE
BEGIN:VEVENT
DTSTART;TZID=UTC:20240901T100000
DTEND;TZID=UTC:20240901T120000
DTSTAMP:20260422T190135
CREATED:20240827T204322Z
LAST-MODIFIED:20240827T204822Z
UID:28785-1725184800-1725192000@capitalcitycog.org
SUMMARY:Labor Day Service 10am ONLY
DESCRIPTION:Join us for an exciting word from the Lord as Clay Shiver shares his testimony of God’s goodness\, and the time of wonderful ministry! Come\, celebrate Labor Day weekend in the presence of God!
URL:https://capitalcitycog.org/event/labor-day-service-10am-only/
ATTACH;FMTTYPE=image/png:https://capitalcitycog.org/wp-content/uploads/2024/08/Add-a-heading-2.png
END:VEVENT
BEGIN:VEVENT
DTSTART;TZID=UTC:20240827T100000
DTEND;TZID=UTC:20240827T110000
DTSTAMP:20260422T190135
CREATED:20240827T212627Z
LAST-MODIFIED:20240827T212627Z
UID:28791-1724752800-1724756400@capitalcitycog.org
SUMMARY:Upper Room Prayer/Worship Sunday
DESCRIPTION:On this Sunday\, join us for a concentrated time of prayer and worship. Come ready to lift up the name of Jesus and partner with the Holy Spirit to see him do exceedingly abundantly\, above all that we could ever ask think or even imagine!
URL:https://capitalcitycog.org/event/upper-room-prayer-worship-sunday/
ATTACH;FMTTYPE=image/jpeg:https://capitalcitycog.org/wp-content/uploads/2024/08/UPRM_SEPT.jpg
END:VEVENT
BEGIN:VEVENT
DTSTART;TZID=UTC:20240730T180000
DTEND;TZID=UTC:20240730T200000
DTSTAMP:20260422T190135
CREATED:20240501T215538Z
LAST-MODIFIED:20240501T215538Z
UID:28649-1722362400-1722369600@capitalcitycog.org
SUMMARY:TACO TUESDAY
DESCRIPTION:Tijuana\, Flats-Village Square\nBring your family and friends\, and join us for Taco Tuesday!\nLet’s enjoy the summer together!
URL:https://capitalcitycog.org/event/taco-tuesday-9/
ATTACH;FMTTYPE=image/png:https://capitalcitycog.org/wp-content/uploads/2024/05/TIJUANA-FLATS.png
END:VEVENT
BEGIN:VEVENT
DTSTART;TZID=UTC:20240723T180000
DTEND;TZID=UTC:20240723T200000
DTSTAMP:20260422T190135
CREATED:20240501T215416Z
LAST-MODIFIED:20240501T215416Z
UID:28647-1721757600-1721764800@capitalcitycog.org
SUMMARY:TACO TUESDAY
DESCRIPTION:Burrito Boarder-Pensacola Street\nBring your family and friends out and join us for Taco Tuesday!\nLet’s enjoy the summer together!
URL:https://capitalcitycog.org/event/taco-tuesday-8/
ATTACH;FMTTYPE=image/png:https://capitalcitycog.org/wp-content/uploads/2024/05/Burrito-boarder.png
END:VEVENT
BEGIN:VEVENT
DTSTART;TZID=UTC:20240716T180000
DTEND;TZID=UTC:20240716T200000
DTSTAMP:20260422T190135
CREATED:20240501T215246Z
LAST-MODIFIED:20240501T215246Z
UID:28645-1721152800-1721160000@capitalcitycog.org
SUMMARY:TACO TUESDAY
DESCRIPTION:Surcheros- Thomasville Rd\nBring your family and friends out and join us for Taco Tuesday!\nLet’s enjoy the summer together!
URL:https://capitalcitycog.org/event/taco-tuesday-7/
ATTACH;FMTTYPE=image/png:https://capitalcitycog.org/wp-content/uploads/2024/05/SURCHEROS.png
END:VEVENT
BEGIN:VEVENT
DTSTART;TZID=UTC:20240709T180000
DTEND;TZID=UTC:20240709T200000
DTSTAMP:20260422T190135
CREATED:20240501T215051Z
LAST-MODIFIED:20240501T215051Z
UID:28643-1720548000-1720555200@capitalcitycog.org
SUMMARY:TACO TUESDAY
DESCRIPTION:Ponchos- Stadium Drive\nBring your family and friends out and join us for Taco Tuesday!\nLet’s enjoy the summer together!
URL:https://capitalcitycog.org/event/taco-tuesday-6/
ATTACH;FMTTYPE=image/png:https://capitalcitycog.org/wp-content/uploads/2024/05/PONCHOS.png
END:VEVENT
BEGIN:VEVENT
DTSTART;TZID=UTC:20240702T180000
DTEND;TZID=UTC:20240702T200000
DTSTAMP:20260422T190135
CREATED:20240501T214924Z
LAST-MODIFIED:20240501T214924Z
UID:28641-1719943200-1719950400@capitalcitycog.org
SUMMARY:TACO TUESDAY
DESCRIPTION:El Jalisco Apalachee Pkwy\nBring your family and friends out and join us for Taco Tuesday!\nLet’s enjoy the summer together!
URL:https://capitalcitycog.org/event/taco-tuesday-5/
ATTACH;FMTTYPE=image/png:https://capitalcitycog.org/wp-content/uploads/2024/05/EL-JALSICO.png
END:VEVENT
BEGIN:VEVENT
DTSTART;TZID=UTC:20240629T163000
DTEND;TZID=UTC:20240629T183000
DTSTAMP:20260422T190135
CREATED:20240325T202438Z
LAST-MODIFIED:20240325T202438Z
UID:28561-1719678600-1719685800@capitalcitycog.org
SUMMARY:Oasis "A Taste of Italy"
DESCRIPTION:Join us for an enchanting evening filled with the flavors of Italy!\nSave the date as we indulge in the finest Italian delights with the Oasis 55+ Group. \nExperience the culinary delights of Italy with our pasta bar\, accompanied by refreshing salads and warm bread buns. Enjoy the delightful ambiance with music and engage in a friendly game of bunco.\nAdditionally\, join us for a moment of reflection and inspiration during our devotional session. \nLet’s savor the taste of Italy together! Please mark your calendars and make plans to join us for this delightful occasion.
URL:https://capitalcitycog.org/event/oasis-a-taste-of-italy/
ATTACH;FMTTYPE=image/png:https://capitalcitycog.org/wp-content/uploads/2024/03/Join-us-for-A-Taste-of-Italy.png
END:VEVENT
BEGIN:VEVENT
DTSTART;TZID=UTC:20240625T180000
DTEND;TZID=UTC:20240625T200000
DTSTAMP:20260422T190135
CREATED:20240501T214634Z
LAST-MODIFIED:20240501T214634Z
UID:28639-1719338400-1719345600@capitalcitycog.org
SUMMARY:TACO TUESDAY
DESCRIPTION:Peppers- Village Square\nBring your family and friends and join us at 6 PM for taco Tuesday!\nLet’s enjoy the summer together!
URL:https://capitalcitycog.org/event/taco-tuesday-4/
ATTACH;FMTTYPE=image/png:https://capitalcitycog.org/wp-content/uploads/2024/05/PEPPERS.png
END:VEVENT
BEGIN:VEVENT
DTSTART;TZID=UTC:20240618T180000
DTEND;TZID=UTC:20240618T200000
DTSTAMP:20260422T190135
CREATED:20240501T214421Z
LAST-MODIFIED:20240501T214421Z
UID:28636-1718733600-1718740800@capitalcitycog.org
SUMMARY:TACO TUESDAY
DESCRIPTION:Surcheros-Thomasville Rd\nBring your family and friends and join us at 6 PM for taco Tuesday!\\nLet’s enjoy the summer together!
URL:https://capitalcitycog.org/event/taco-tuesday-3/
ATTACH;FMTTYPE=image/png:https://capitalcitycog.org/wp-content/uploads/2024/05/SURCHEROS.png
END:VEVENT
BEGIN:VEVENT
DTSTART;TZID=UTC:20240611T180000
DTEND;TZID=UTC:20240611T200000
DTSTAMP:20260422T190135
CREATED:20240501T214258Z
LAST-MODIFIED:20240501T214258Z
UID:28634-1718128800-1718136000@capitalcitycog.org
SUMMARY:TACO TUESDAY
DESCRIPTION:Chipolte-Thomasville Rd\nBring your family and friends and join us at 6 PM for taco Tuesday!\\nLet’s enjoy the summer together!
URL:https://capitalcitycog.org/event/taco-tuesday-2/
ATTACH;FMTTYPE=image/png:https://capitalcitycog.org/wp-content/uploads/2024/05/Chipotle.png
END:VEVENT
BEGIN:VEVENT
DTSTART;TZID=UTC:20240604T180000
DTEND;TZID=UTC:20240604T200000
DTSTAMP:20260422T190135
CREATED:20240501T214045Z
LAST-MODIFIED:20240501T214131Z
UID:28624-1717524000-1717531200@capitalcitycog.org
SUMMARY:TACO TUESDAY
DESCRIPTION:El Jalisco- N. Monroe\nBring your family and friends and join us at 6 PM for taco Tuesday!\nLet’s enjoy the summer together!
URL:https://capitalcitycog.org/event/taco-tuesday/
ATTACH;FMTTYPE=image/png:https://capitalcitycog.org/wp-content/uploads/2024/05/EL-JALSICO.png
END:VEVENT
BEGIN:VEVENT
DTSTART;TZID=UTC:20240525T163000
DTEND;TZID=UTC:20240525T183000
DTSTAMP:20260422T190135
CREATED:20240325T201052Z
LAST-MODIFIED:20240407T221916Z
UID:28558-1716654600-1716661800@capitalcitycog.org
SUMMARY:Oasis Viva la Fiesta!
DESCRIPTION:Get ready to fiesta with the Oasis 55+ Group!  Join us for an evening of fun\, food\, and fellowship on May 5\, 2024\, at 4:30pm. Indulge in delicious tacos at our taco bar\, groove to lively music\, test your luck at bingo\, and join us for a meaningful devotional session.\nLet’s celebrate life and community together! Please mark your calendars and make plans to join us for this special occasion.\nWe look forward to seeing you there! \n 
URL:https://capitalcitycog.org/event/oasis-viva-la-fiesta/
ATTACH;FMTTYPE=image/png:https://capitalcitycog.org/wp-content/uploads/2024/03/Taco-Night.png
END:VEVENT
BEGIN:VEVENT
DTSTART;TZID=UTC:20240421T100000
DTEND;TZID=UTC:20240421T120000
DTSTAMP:20260422T190135
CREATED:20240222T151249Z
LAST-MODIFIED:20240227T140425Z
UID:28490-1713693600-1713700800@capitalcitycog.org
SUMMARY:CAPITAL CITY CHURCH 10YR CELEBRATION
DESCRIPTION:Come join us for an unforgettable in-person event at the Donald L. Tucker Civic Center in Tallahassee\, FL.\nWe are thrilled to celebrate 10 incredible years of fellowship\, worship\, and community. Get ready for an uplifting experience filled with music\, inspiring messages\, heartfelt moments and vision casting for the the next season at CCCHURCH.  Whether you’re a longtime member or new to our church\, or looking for a church this celebration is for everyone. Let’s come together and rejoice in the love and blessings that have shaped our church family.\nMark your calendars and join us for this joyous occasion!\nDETAILS: Lunch will be provided\, as well as\, plenty of door prizes give aways!! \nYOU DON”T WANT TO MISS THIS!
URL:https://capitalcitycog.org/event/capital-city-church-10yr-celebration/
LOCATION:Donald L. Tucker Civic Center\, 505 W Pensacola Street\, Tallahassee\, FL\, 32301\, United States
ATTACH;FMTTYPE=image/jpeg:https://capitalcitycog.org/wp-content/uploads/2024/02/front.jpg
END:VEVENT
BEGIN:VEVENT
DTSTART;VALUE=DATE:20240331
DTEND;VALUE=DATE:20240401
DTSTAMP:20260422T190135
CREATED:20240227T163804Z
LAST-MODIFIED:20240227T163804Z
UID:28550-1711843200-1711929599@capitalcitycog.org
SUMMARY:RESURRECTION SUNDAY
DESCRIPTION:🌸🌟 **Join Us for Resurrection Sunday Celebration!** 🌟🌸 \nAs the joyous season of Easter approaches\,\nwe extend a warm invitation to you\, your family\, and friends\nto join us for a special Easter Sunday service on March 31st at 9AM & 11AM. \n🕊️ **Celebrating the Empty Tomb\, and a Life Filled with Hope!** 🕊️ \nCome together with our community to commemorate\nthe resurrection of Jesus Christ\, symbolized by the empty tomb.\nEaster is a time of renewal\, and we invite you to experience\nthe joy and hope that the resurrection brings to our lives. \nLet us gather as one\, in the spirit of fellowship\,\nto celebrate the promise of a life eternal with Jesus Christ.\nThe Easter Sunday service will be a time of\nreflection\, worship\, and rejoicing in the love that fills our hearts. \nWe look forward to having you with us on this special day\nas we rejoice in the hope and promise of Easter.\nFeel free to bring along your family and friends\nto share in this uplifting experience. \nWe Hope to See You Here! \n 
URL:https://capitalcitycog.org/event/resurrection-sunday/
ATTACH;FMTTYPE=image/jpeg:https://capitalcitycog.org/wp-content/uploads/2024/02/EasterPromo-Slide.jpg
END:VEVENT
BEGIN:VEVENT
DTSTART;TZID=UTC:20240323T080000
DTEND;TZID=UTC:20240323T120000
DTSTAMP:20260422T190135
CREATED:20240223T173515Z
LAST-MODIFIED:20240223T173515Z
UID:28544-1711180800-1711195200@capitalcitycog.org
SUMMARY:J1:22 MEN'S CLEAN UP DAY
DESCRIPTION:🌱 **James One Men’s Ministry Spring Cleanup Day! 🌷** \nGentlemen\, \nGet ready to roll up your sleeves and make a positive impact! The James One Men’s Ministry is thrilled to invite all men to join us for a Spring Cleanup Day on March 23 at 8 am. \n📅 **Date:** March 23\, 2024\n🕗 **Time:** 8:00 AM \n📍 **Meeting Point:** CCCHURCH Building A & B \nThis is an excellent opportunity to come together\, strengthen friendships\, and contribute to the well-being of our community. Whether you’re a seasoned gardener or just enjoy the fresh air\, your presence and efforts are highly valued. \n**Activities include:**\n– 🍃 Clearing away winter debris\n– 🌸 Planting new flowers and greenery\n– 🧹 General cleanup of the area\n– 🎨 Light Painting \n**What to bring:**\n– Gardening gloves\n– A positive attitude\n– Willingness to make a difference\n– Basic tools/set \nAfter the cleanup\, we’ll gather for some refreshments and fellowship. It’s a chance to build camaraderie and make lasting connections. \nLet’s make this Spring Cleanup Day a memorable and impactful event! Feel free to bring friends and family—everyone is welcome.
URL:https://capitalcitycog.org/event/j122-mens-clean-up-day/
ATTACH;FMTTYPE=image/png:https://capitalcitycog.org/wp-content/uploads/2024/02/J1_cleanup_slide.png
END:VEVENT
BEGIN:VEVENT
DTSTART;TZID=UTC:20240222T090000
DTEND;TZID=UTC:20240222T120000
DTSTAMP:20260422T190135
CREATED:20240222T184655Z
LAST-MODIFIED:20240222T184655Z
UID:28534-1708592400-1708603200@capitalcitycog.org
SUMMARY:ALL-IN SERMON SERIES
DESCRIPTION:The Gospel costs nothing. You can’t earn it or buy it. It can only be received as a free gift compliments of God’s grace. It doesn’t cost anything\, but it demands everything. It demands that we go “all in\,” a term that simply means placing all that you have into God’s hands. But we’re afraid that if we go all in that we might miss out on what this life has to offer. It’s not true…..
URL:https://capitalcitycog.org/event/all-in-sermon-series/2024-02-22/
ATTACH;FMTTYPE=image/jpeg:https://capitalcitycog.org/wp-content/uploads/2024/02/Promo-Slide.jpg
END:VEVENT
BEGIN:VEVENT
DTSTART;TZID=UTC:20230903T100000
DTEND;TZID=UTC:20230903T120000
DTSTAMP:20260422T190135
CREATED:20230821T191426Z
LAST-MODIFIED:20230821T191713Z
UID:28433-1693735200-1693742400@capitalcitycog.org
SUMMARY:Labor Day Weekend Worship Service 10AM ONLY
DESCRIPTION:“Labor Day Weekend Sunday: One Service\, Double the Fun! Join us for a single service followed by delicious food and great company.”
URL:https://capitalcitycog.org/event/labor-day-weekend-worship-service-10am-only/
ATTACH;FMTTYPE=image/png:https://capitalcitycog.org/wp-content/uploads/2023/08/Worship-Service-1080-×-1080-px-1920-×-1080-px.png
END:VEVENT
BEGIN:VEVENT
DTSTART;TZID=UTC:20230830T183000
DTEND;TZID=UTC:20230830T200000
DTSTAMP:20260422T190135
CREATED:20230207T180711Z
LAST-MODIFIED:20230828T170830Z
UID:28345-1693420200-1693425600@capitalcitycog.org
SUMMARY:Cancelled** C3YTH & Kids
DESCRIPTION:
URL:https://capitalcitycog.org/event/c3yth-kids-2023-08-30/
END:VEVENT
BEGIN:VEVENT
DTSTART;TZID=UTC:20230718T183000
DTEND;TZID=UTC:20230718T200000
DTSTAMP:20260422T190135
CREATED:20230608T154029Z
LAST-MODIFIED:20230608T154029Z
UID:28413-1689705000-1689710400@capitalcitycog.org
SUMMARY:Taco Tuesday @ Tijuana Flats | Pensacola St
DESCRIPTION:
URL:https://capitalcitycog.org/event/taco-tuesday-tijuana-flats-pensacola-st-3/
END:VEVENT
BEGIN:VEVENT
DTSTART;TZID=UTC:20230711T183000
DTEND;TZID=UTC:20230711T200000
DTSTAMP:20260422T190135
CREATED:20230608T153504Z
LAST-MODIFIED:20230608T153504Z
UID:28409-1689100200-1689105600@capitalcitycog.org
SUMMARY:Taco Tuesday @ Peppers | Village Square
DESCRIPTION:
URL:https://capitalcitycog.org/event/taco-tuesday-peppers-village-square-3/
END:VEVENT
BEGIN:VEVENT
DTSTART;TZID=UTC:20230704T183000
DTEND;TZID=UTC:20230704T200000
DTSTAMP:20260422T190135
CREATED:20230608T153803Z
LAST-MODIFIED:20230608T153803Z
UID:28411-1688495400-1688500800@capitalcitycog.org
SUMMARY:Taco Tuesday @ El Jalisco | North Monroe
DESCRIPTION:
URL:https://capitalcitycog.org/event/taco-tuesday-el-jalisco-north-monroe-2/
END:VEVENT
BEGIN:VEVENT
DTSTART;TZID=UTC:20230627T183000
DTEND;TZID=UTC:20230627T200000
DTSTAMP:20260422T190135
CREATED:20230608T154227Z
LAST-MODIFIED:20230608T154227Z
UID:28415-1687890600-1687896000@capitalcitycog.org
SUMMARY:Taco Tuesday @ Chipotle | TN St
DESCRIPTION:
URL:https://capitalcitycog.org/event/taco-tuesday-chipotle-tn-st/
END:VEVENT
BEGIN:VEVENT
DTSTART;TZID=UTC:20230620T183000
DTEND;TZID=UTC:20230620T200000
DTSTAMP:20260422T190135
CREATED:20230608T153346Z
LAST-MODIFIED:20230608T153346Z
UID:28407-1687285800-1687291200@capitalcitycog.org
SUMMARY:Taco Tuesday @ Tijuana Flats | Pensacola Street
DESCRIPTION:
URL:https://capitalcitycog.org/event/taco-tuesday-tijuana-flats-pensacola-street/
END:VEVENT
BEGIN:VEVENT
DTSTART;TZID=UTC:20230613T183000
DTEND;TZID=UTC:20230613T200000
DTSTAMP:20260422T190135
CREATED:20230608T153136Z
LAST-MODIFIED:20230608T153136Z
UID:28405-1686681000-1686686400@capitalcitycog.org
SUMMARY:Taco Tuesday @ Peppers | Village Square
DESCRIPTION:1425 Village Square Blvd
URL:https://capitalcitycog.org/event/taco-tuesday-peppers-village-square-2/
END:VEVENT
BEGIN:VEVENT
DTSTART;TZID=UTC:20230409T090000
DTEND;TZID=UTC:20230409T103000
DTSTAMP:20260422T190135
CREATED:20230313T182822Z
LAST-MODIFIED:20230313T182822Z
UID:28379-1681030800-1681036200@capitalcitycog.org
SUMMARY:Easter 2023: Homecoming
DESCRIPTION:Easter 2023: Homecoming
URL:https://capitalcitycog.org/event/easter-2023-homecoming/2023-04-09/
ATTACH;FMTTYPE=image/jpeg:https://capitalcitycog.org/wp-content/uploads/2023/03/IMG_4816.jpg
END:VEVENT
BEGIN:VEVENT
DTSTART;TZID=UTC:20230325T100000
DTEND;TZID=UTC:20230325T120000
DTSTAMP:20260422T190135
CREATED:20230302T163743Z
LAST-MODIFIED:20230302T163743Z
UID:28372-1679738400-1679745600@capitalcitycog.org
SUMMARY:Eggstravaganza & XggsGames
DESCRIPTION:Looking for some Easter fun? Then head down to Godby High School football field on Saturday March 25th from 10-12 for Eggstravaganza\, brought to you by Capital City Church and FCA. Show up at 10 and pick up your Easter egg bag\, then get ready for the egg hunt at 10:30 for kids up to 5th grade with 3 golden eggs to win awesome prizes. But that’s not all! From 11 to 12\, middle schoolers and high schoolers can take part in the Easter X games\, with prizes for the top 3 contenders. It’s going to be an Eggstravaganza like no other – don’t miss it! Saturday March 25th\, from 10 – 12 at the Godby High school football field!
URL:https://capitalcitycog.org/event/eggstravaganza-xggsgames/
ATTACH;FMTTYPE=image/png:https://capitalcitycog.org/wp-content/uploads/2023/03/Eggstravaganza-1920-×-1080-px.png
END:VEVENT
BEGIN:VEVENT
DTSTART;TZID=UTC:20230225T163000
DTEND;TZID=UTC:20230225T180000
DTSTAMP:20260422T190135
CREATED:20230202T185843Z
LAST-MODIFIED:20230202T190142Z
UID:28265-1677342600-1677348000@capitalcitycog.org
SUMMARY:CCCouples Pot Luck
DESCRIPTION:
URL:https://capitalcitycog.org/event/cccouples-pot-luck/
END:VEVENT
BEGIN:VEVENT
DTSTART;TZID=UTC:20230218T090000
DTEND;TZID=UTC:20230218T110000
DTSTAMP:20260422T190135
CREATED:20230202T185440Z
LAST-MODIFIED:20230202T185500Z
UID:28261-1676710800-1676718000@capitalcitycog.org
SUMMARY:James 1 Men's Ministry Meeting
DESCRIPTION:
URL:https://capitalcitycog.org/event/james-1-mens-ministry-meeting/
ATTACH;FMTTYPE=image/jpeg:https://capitalcitycog.org/wp-content/uploads/2023/02/Untitled-design.jpg
END:VEVENT
BEGIN:VEVENT
DTSTART;TZID=UTC:20230208T183000
DTEND;TZID=UTC:20230208T200000
DTSTAMP:20260422T190135
CREATED:20230207T180711Z
LAST-MODIFIED:20230207T180711Z
UID:28315-1675881000-1675886400@capitalcitycog.org
SUMMARY:C3YTH & Kids
DESCRIPTION:
URL:https://capitalcitycog.org/event/c3yth-kids/2023-02-08/
END:VEVENT
END:VCALENDAR