BEGIN:VCALENDAR
VERSION:2.0
PRODID:-//Capital City Church - ECPv5.9.2//NONSGML v1.0//EN
CALSCALE:GREGORIAN
METHOD:PUBLISH
X-WR-CALNAME:Capital City Church
X-ORIGINAL-URL:https://capitalcitycog.org
X-WR-CALDESC:Events for Capital City Church
BEGIN:VTIMEZONE
TZID:UTC
BEGIN:STANDARD
TZOFFSETFROM:+0000
TZOFFSETTO:+0000
TZNAME:UTC
DTSTART:20220101T000000
END:STANDARD
END:VTIMEZONE
BEGIN:VEVENT
DTSTART;TZID=UTC:20230613T183000
DTEND;TZID=UTC:20230613T200000
DTSTAMP:20260422T232523
CREATED:20230608T153136Z
LAST-MODIFIED:20230608T153136Z
UID:28405-1686681000-1686686400@capitalcitycog.org
SUMMARY:Taco Tuesday @ Peppers | Village Square
DESCRIPTION:1425 Village Square Blvd
URL:https://capitalcitycog.org/event/taco-tuesday-peppers-village-square-2/
END:VEVENT
BEGIN:VEVENT
DTSTART;TZID=UTC:20230409T090000
DTEND;TZID=UTC:20230409T103000
DTSTAMP:20260422T232523
CREATED:20230313T182822Z
LAST-MODIFIED:20230313T182822Z
UID:28379-1681030800-1681036200@capitalcitycog.org
SUMMARY:Easter 2023: Homecoming
DESCRIPTION:Easter 2023: Homecoming
URL:https://capitalcitycog.org/event/easter-2023-homecoming/2023-04-09/
ATTACH;FMTTYPE=image/jpeg:https://capitalcitycog.org/wp-content/uploads/2023/03/IMG_4816.jpg
END:VEVENT
BEGIN:VEVENT
DTSTART;TZID=UTC:20230325T100000
DTEND;TZID=UTC:20230325T120000
DTSTAMP:20260422T232523
CREATED:20230302T163743Z
LAST-MODIFIED:20230302T163743Z
UID:28372-1679738400-1679745600@capitalcitycog.org
SUMMARY:Eggstravaganza & XggsGames
DESCRIPTION:Looking for some Easter fun? Then head down to Godby High School football field on Saturday March 25th from 10-12 for Eggstravaganza\, brought to you by Capital City Church and FCA. Show up at 10 and pick up your Easter egg bag\, then get ready for the egg hunt at 10:30 for kids up to 5th grade with 3 golden eggs to win awesome prizes. But that’s not all! From 11 to 12\, middle schoolers and high schoolers can take part in the Easter X games\, with prizes for the top 3 contenders. It’s going to be an Eggstravaganza like no other – don’t miss it! Saturday March 25th\, from 10 – 12 at the Godby High school football field!
URL:https://capitalcitycog.org/event/eggstravaganza-xggsgames/
ATTACH;FMTTYPE=image/png:https://capitalcitycog.org/wp-content/uploads/2023/03/Eggstravaganza-1920-×-1080-px.png
END:VEVENT
BEGIN:VEVENT
DTSTART;TZID=UTC:20230225T163000
DTEND;TZID=UTC:20230225T180000
DTSTAMP:20260422T232523
CREATED:20230202T185843Z
LAST-MODIFIED:20230202T190142Z
UID:28265-1677342600-1677348000@capitalcitycog.org
SUMMARY:CCCouples Pot Luck
DESCRIPTION:
URL:https://capitalcitycog.org/event/cccouples-pot-luck/
END:VEVENT
BEGIN:VEVENT
DTSTART;TZID=UTC:20230218T090000
DTEND;TZID=UTC:20230218T110000
DTSTAMP:20260422T232523
CREATED:20230202T185440Z
LAST-MODIFIED:20230202T185500Z
UID:28261-1676710800-1676718000@capitalcitycog.org
SUMMARY:James 1 Men's Ministry Meeting
DESCRIPTION:
URL:https://capitalcitycog.org/event/james-1-mens-ministry-meeting/
ATTACH;FMTTYPE=image/jpeg:https://capitalcitycog.org/wp-content/uploads/2023/02/Untitled-design.jpg
END:VEVENT
BEGIN:VEVENT
DTSTART;TZID=UTC:20230208T183000
DTEND;TZID=UTC:20230208T200000
DTSTAMP:20260422T232523
CREATED:20230207T180711Z
LAST-MODIFIED:20230207T180711Z
UID:28315-1675881000-1675886400@capitalcitycog.org
SUMMARY:C3YTH & Kids
DESCRIPTION:
URL:https://capitalcitycog.org/event/c3yth-kids/2023-02-08/
END:VEVENT
BEGIN:VEVENT
DTSTART;TZID=UTC:20230117T190000
DTEND;TZID=UTC:20230117T210000
DTSTAMP:20260422T232523
CREATED:20221213T155052Z
LAST-MODIFIED:20221213T155052Z
UID:28238-1673982000-1673989200@capitalcitycog.org
SUMMARY:Revival Nights with Pastor Todd Smith
DESCRIPTION:Revival Nights with Pastor Todd Smith
URL:https://capitalcitycog.org/event/revival-nights-with-pastor-todd-smith-4/
ATTACH;FMTTYPE=image/png:https://capitalcitycog.org/wp-content/uploads/2022/12/Add-a-heading-1080-×-1080-px-1920-×-1080-px.png
END:VEVENT
BEGIN:VEVENT
DTSTART;TZID=UTC:20230116T190000
DTEND;TZID=UTC:20230116T210000
DTSTAMP:20260422T232523
CREATED:20221213T154853Z
LAST-MODIFIED:20221213T155007Z
UID:28234-1673895600-1673902800@capitalcitycog.org
SUMMARY:Revival Nights with Pastor Todd Smith
DESCRIPTION:Revival Nights with Pastor Todd Smith
URL:https://capitalcitycog.org/event/revival-nights-with-pastor-todd-smith-3/
ATTACH;FMTTYPE=image/png:https://capitalcitycog.org/wp-content/uploads/2022/12/Add-a-heading-1080-×-1080-px-1920-×-1080-px.png
END:VEVENT
BEGIN:VEVENT
DTSTART;VALUE=DATE:20221228
DTEND;VALUE=DATE:20221229
DTSTAMP:20260422T232523
CREATED:20221130T011356Z
LAST-MODIFIED:20221130T011356Z
UID:28212-1672185600-1672271999@capitalcitycog.org
SUMMARY:Campus Closed | No Midweek Service
DESCRIPTION:
URL:https://capitalcitycog.org/event/campus-closed-no-midweek-service/
END:VEVENT
BEGIN:VEVENT
DTSTART;VALUE=DATE:20221225
DTEND;VALUE=DATE:20221226
DTSTAMP:20260422T232523
CREATED:20221117T191254Z
LAST-MODIFIED:20221117T191254Z
UID:28160-1671926400-1672012799@capitalcitycog.org
SUMMARY:Campus Closed. No Services. Merry Christmas!
DESCRIPTION:
URL:https://capitalcitycog.org/event/campus-closed-no-services-merry-christmas/
END:VEVENT
BEGIN:VEVENT
DTSTART;VALUE=DATE:20221221
DTEND;VALUE=DATE:20221222
DTSTAMP:20260422T232523
CREATED:20221114T152935Z
LAST-MODIFIED:20221117T192116Z
UID:28139-1671580800-1671667199@capitalcitycog.org
SUMMARY:Campus Closed | No Midweek Service
DESCRIPTION:
URL:https://capitalcitycog.org/event/no-midweek-service-no-youth-or-kids-2/
END:VEVENT
BEGIN:VEVENT
DTSTART;TZID=UTC:20221218T110000
DTEND;TZID=UTC:20221218T120000
DTSTAMP:20260422T232523
CREATED:20221108T193351Z
LAST-MODIFIED:20221128T164551Z
UID:28132-1671361200-1671364800@capitalcitycog.org
SUMMARY:Christmas Candlelight Service
DESCRIPTION:
URL:https://capitalcitycog.org/event/christmas-eve-service-2/
ATTACH;FMTTYPE=image/jpeg:https://capitalcitycog.org/wp-content/uploads/2022/11/Copy-of-Fresno-High-School-1920-×-1080-px.jpg
END:VEVENT
BEGIN:VEVENT
DTSTART;TZID=UTC:20221218T090000
DTEND;TZID=UTC:20221218T100000
DTSTAMP:20260422T232523
CREATED:20221108T193321Z
LAST-MODIFIED:20221128T164839Z
UID:28130-1671354000-1671357600@capitalcitycog.org
SUMMARY:Christmas Candlelight Service
DESCRIPTION:
URL:https://capitalcitycog.org/event/christmas-eve-service/
ATTACH;FMTTYPE=image/jpeg:https://capitalcitycog.org/wp-content/uploads/2022/11/Copy-of-Fresno-High-School-1920-×-1080-px.jpg
END:VEVENT
BEGIN:VEVENT
DTSTART;TZID=UTC:20221217T170000
DTEND;TZID=UTC:20221217T180000
DTSTAMP:20260422T232523
CREATED:20221117T184823Z
LAST-MODIFIED:20221117T184823Z
UID:28156-1671296400-1671300000@capitalcitycog.org
SUMMARY:Christmas Carols at Dorothy B Oven
DESCRIPTION:
URL:https://capitalcitycog.org/event/christmas-carols-at-dorothy-b-oven/
END:VEVENT
BEGIN:VEVENT
DTSTART;VALUE=DATE:20221123
DTEND;VALUE=DATE:20221124
DTSTAMP:20260422T232523
CREATED:20221114T152854Z
LAST-MODIFIED:20221117T192058Z
UID:28137-1669161600-1669247999@capitalcitycog.org
SUMMARY:Campus Closed | No Midweek Service
DESCRIPTION:
URL:https://capitalcitycog.org/event/no-midweek-service-no-youth-or-kids/
END:VEVENT
BEGIN:VEVENT
DTSTART;TZID=UTC:20221019T183000
DTEND;TZID=UTC:20221019T200000
DTSTAMP:20260422T232523
CREATED:20210818T210857Z
LAST-MODIFIED:20221128T004722Z
UID:27417-1666204200-1666209600@capitalcitycog.org
SUMMARY:C3YTH & Kids Church (K-12)
DESCRIPTION:
URL:https://capitalcitycog.org/event/c3yth-2022-10-19/2022-10-19/
LOCATION:Capital City Church\, 862 Blountstown St\, Tallahassee\, FL\, 32304\, United States
ATTACH;FMTTYPE=image/jpeg:https://capitalcitycog.org/wp-content/uploads/2021/08/c3yth-small-jpg.jpg
END:VEVENT
BEGIN:VEVENT
DTSTART;TZID=UTC:20220925T160000
DTEND;TZID=UTC:20220925T170000
DTSTAMP:20260422T232523
CREATED:20220918T112152Z
LAST-MODIFIED:20220918T112152Z
UID:28114-1664121600-1664125200@capitalcitycog.org
SUMMARY:Foundations Class Begins
DESCRIPTION:
URL:https://capitalcitycog.org/event/foundations-class-begins-2/
END:VEVENT
BEGIN:VEVENT
DTSTART;TZID=UTC:20220913T190000
DTEND;TZID=UTC:20220913T210000
DTSTAMP:20260422T232523
CREATED:20220728T153345Z
LAST-MODIFIED:20220728T153345Z
UID:27743-1663095600-1663102800@capitalcitycog.org
SUMMARY:Revival Nights with Pastor Todd Smith
DESCRIPTION:
URL:https://capitalcitycog.org/event/revival-nights-with-pastor-todd-smith-2/
LOCATION:Capital City Church\, 862 Blountstown St\, Tallahassee\, FL\, 32304\, United States
ATTACH;FMTTYPE=image/png:https://capitalcitycog.org/wp-content/uploads/2022/07/Add-a-heading-4.png
END:VEVENT
BEGIN:VEVENT
DTSTART;TZID=UTC:20220912T190000
DTEND;TZID=UTC:20220912T210000
DTSTAMP:20260422T232523
CREATED:20220728T153213Z
LAST-MODIFIED:20220728T153247Z
UID:27739-1663009200-1663016400@capitalcitycog.org
SUMMARY:Revival Nights with Pastor Todd Smith
DESCRIPTION:
URL:https://capitalcitycog.org/event/revival-nights-with-pastor-todd-smith/
LOCATION:Capital City Church\, 862 Blountstown St\, Tallahassee\, FL\, 32304\, United States
ATTACH;FMTTYPE=image/png:https://capitalcitycog.org/wp-content/uploads/2022/07/Add-a-heading-4.png
END:VEVENT
BEGIN:VEVENT
DTSTART;TZID=UTC:20220901T190000
DTEND;TZID=UTC:20220901T200000
DTSTAMP:20260422T232523
CREATED:20220823T182748Z
LAST-MODIFIED:20220823T182748Z
UID:27873-1662058800-1662062400@capitalcitycog.org
SUMMARY:Young Adults
DESCRIPTION:Young Adults
URL:https://capitalcitycog.org/event/young-adults/
ATTACH;FMTTYPE=image/jpeg:https://capitalcitycog.org/wp-content/uploads/2022/08/YA-1920-×-1080-px.jpg
END:VEVENT
BEGIN:VEVENT
DTSTART;TZID=UTC:20220829T180000
DTEND;TZID=UTC:20220829T200000
DTSTAMP:20260422T232523
CREATED:20220802T192524Z
LAST-MODIFIED:20220802T192524Z
UID:27752-1661796000-1661803200@capitalcitycog.org
SUMMARY:Healing Night
DESCRIPTION:Healing Night
URL:https://capitalcitycog.org/event/healing-night-4/
ATTACH;FMTTYPE=image/png:https://capitalcitycog.org/wp-content/uploads/2022/08/HEALING-NIGHT.png
END:VEVENT
BEGIN:VEVENT
DTSTART;TZID=UTC:20220820T100000
DTEND;TZID=UTC:20220820T150000
DTSTAMP:20260422T232523
CREATED:20220726T164030Z
LAST-MODIFIED:20220726T164129Z
UID:27736-1660989600-1661007600@capitalcitycog.org
SUMMARY:Nolan Haire Foundation Skeet Shoot
DESCRIPTION:Registration starts at 10am.
URL:https://capitalcitycog.org/event/nolan-haire-foundation-skeet-shoot/
ATTACH;FMTTYPE=image/png:https://capitalcitycog.org/wp-content/uploads/2022/07/Untitled-design.png
END:VEVENT
BEGIN:VEVENT
DTSTART;TZID=UTC:20220810T190000
DTEND;TZID=UTC:20220810T200000
DTSTAMP:20260422T232523
CREATED:20220810T180206Z
LAST-MODIFIED:20220816T145057Z
UID:27761-1660158000-1660161600@capitalcitycog.org
SUMMARY:Midweek Service (Adults)
DESCRIPTION:
URL:https://capitalcitycog.org/event/midweek-service-adults/2022-08-10/
END:VEVENT
BEGIN:VEVENT
DTSTART;TZID=UTC:20220810T180000
DTEND;TZID=UTC:20220810T190000
DTSTAMP:20260422T232523
CREATED:20220810T180310Z
LAST-MODIFIED:20220816T150402Z
UID:27763-1660154400-1660158000@capitalcitycog.org
SUMMARY:Prayer
DESCRIPTION:
URL:https://capitalcitycog.org/event/prayer/2022-08-10/
END:VEVENT
BEGIN:VEVENT
DTSTART;TZID=UTC:20220802T180000
DTEND;TZID=UTC:20220802T190000
DTSTAMP:20260422T232523
CREATED:20220531T181914Z
LAST-MODIFIED:20220531T181914Z
UID:27720-1659463200-1659466800@capitalcitycog.org
SUMMARY:Taco Tuesday @ El Jalisco N. Monroe
DESCRIPTION:Taco Tuesday @ El Jalisco N. Monroe
URL:https://capitalcitycog.org/event/taco-tuesday-el-jalisco-n-monroe-2/
END:VEVENT
BEGIN:VEVENT
DTSTART;TZID=UTC:20220726T180000
DTEND;TZID=UTC:20220726T190000
DTSTAMP:20260422T232523
CREATED:20220531T181738Z
LAST-MODIFIED:20220531T181738Z
UID:27718-1658858400-1658862000@capitalcitycog.org
SUMMARY:Taco Tuesday @ Tijuana Flats Pensacola St
DESCRIPTION:
URL:https://capitalcitycog.org/event/taco-tuesday-tijuana-flats-pensacola-st-2/
END:VEVENT
BEGIN:VEVENT
DTSTART;TZID=UTC:20220719T180000
DTEND;TZID=UTC:20220719T190000
DTSTAMP:20260422T232523
CREATED:20220531T181658Z
LAST-MODIFIED:20220531T181658Z
UID:27716-1658253600-1658257200@capitalcitycog.org
SUMMARY:Taco Tuesday @ Peppers Village Square
DESCRIPTION:1425 Village Square Blvd #5\, Tallahassee\, FL 32312
URL:https://capitalcitycog.org/event/taco-tuesday-peppers-village-square/
END:VEVENT
BEGIN:VEVENT
DTSTART;TZID=UTC:20220712T180000
DTEND;TZID=UTC:20220712T190000
DTSTAMP:20260422T232523
CREATED:20220531T181552Z
LAST-MODIFIED:20220531T181552Z
UID:27714-1657648800-1657652400@capitalcitycog.org
SUMMARY:Taco Tuesday @ Casa Grande
DESCRIPTION:3212 Apalachee Pkwy\, Tallahassee\, FL 32311
URL:https://capitalcitycog.org/event/taco-tuesday-casa-grande/
END:VEVENT
BEGIN:VEVENT
DTSTART;TZID=UTC:20220705T180000
DTEND;TZID=UTC:20220705T190000
DTSTAMP:20260422T232523
CREATED:20220531T181440Z
LAST-MODIFIED:20220531T181440Z
UID:27712-1657044000-1657047600@capitalcitycog.org
SUMMARY:Taco Tuesday @ El Jalisco N. Monroe
DESCRIPTION:Taco Tuesday @ El Jalisco N. Monroe
URL:https://capitalcitycog.org/event/taco-tuesday-el-jalisco-n-monroe/
END:VEVENT
BEGIN:VEVENT
DTSTART;TZID=UTC:20220628T180000
DTEND;TZID=UTC:20220628T190000
DTSTAMP:20260422T232523
CREATED:20220531T181253Z
LAST-MODIFIED:20220531T181253Z
UID:27710-1656439200-1656442800@capitalcitycog.org
SUMMARY:Taco Tuesday @ La Tiendita
DESCRIPTION:1840 N Monroe St\, Tallahassee\, FL 32303
URL:https://capitalcitycog.org/event/taco-tuesday-la-tiendita/
END:VEVENT
END:VCALENDAR