BEGIN:VCALENDAR
VERSION:2.0
PRODID:-//Capital City Church - ECPv5.9.2//NONSGML v1.0//EN
CALSCALE:GREGORIAN
METHOD:PUBLISH
X-WR-CALNAME:Capital City Church
X-ORIGINAL-URL:https://capitalcitycog.org
X-WR-CALDESC:Events for Capital City Church
BEGIN:VTIMEZONE
TZID:UTC
BEGIN:STANDARD
TZOFFSETFROM:+0000
TZOFFSETTO:+0000
TZNAME:UTC
DTSTART:20210101T000000
END:STANDARD
END:VTIMEZONE
BEGIN:VEVENT
DTSTART;TZID=UTC:20220802T180000
DTEND;TZID=UTC:20220802T190000
DTSTAMP:20260423T035215
CREATED:20220531T181914Z
LAST-MODIFIED:20220531T181914Z
UID:27720-1659463200-1659466800@capitalcitycog.org
SUMMARY:Taco Tuesday @ El Jalisco N. Monroe
DESCRIPTION:Taco Tuesday @ El Jalisco N. Monroe
URL:https://capitalcitycog.org/event/taco-tuesday-el-jalisco-n-monroe-2/
END:VEVENT
BEGIN:VEVENT
DTSTART;TZID=UTC:20220726T180000
DTEND;TZID=UTC:20220726T190000
DTSTAMP:20260423T035215
CREATED:20220531T181738Z
LAST-MODIFIED:20220531T181738Z
UID:27718-1658858400-1658862000@capitalcitycog.org
SUMMARY:Taco Tuesday @ Tijuana Flats Pensacola St
DESCRIPTION:
URL:https://capitalcitycog.org/event/taco-tuesday-tijuana-flats-pensacola-st-2/
END:VEVENT
BEGIN:VEVENT
DTSTART;TZID=UTC:20220719T180000
DTEND;TZID=UTC:20220719T190000
DTSTAMP:20260423T035215
CREATED:20220531T181658Z
LAST-MODIFIED:20220531T181658Z
UID:27716-1658253600-1658257200@capitalcitycog.org
SUMMARY:Taco Tuesday @ Peppers Village Square
DESCRIPTION:1425 Village Square Blvd #5\, Tallahassee\, FL 32312
URL:https://capitalcitycog.org/event/taco-tuesday-peppers-village-square/
END:VEVENT
BEGIN:VEVENT
DTSTART;TZID=UTC:20220712T180000
DTEND;TZID=UTC:20220712T190000
DTSTAMP:20260423T035215
CREATED:20220531T181552Z
LAST-MODIFIED:20220531T181552Z
UID:27714-1657648800-1657652400@capitalcitycog.org
SUMMARY:Taco Tuesday @ Casa Grande
DESCRIPTION:3212 Apalachee Pkwy\, Tallahassee\, FL 32311
URL:https://capitalcitycog.org/event/taco-tuesday-casa-grande/
END:VEVENT
BEGIN:VEVENT
DTSTART;TZID=UTC:20220705T180000
DTEND;TZID=UTC:20220705T190000
DTSTAMP:20260423T035216
CREATED:20220531T181440Z
LAST-MODIFIED:20220531T181440Z
UID:27712-1657044000-1657047600@capitalcitycog.org
SUMMARY:Taco Tuesday @ El Jalisco N. Monroe
DESCRIPTION:Taco Tuesday @ El Jalisco N. Monroe
URL:https://capitalcitycog.org/event/taco-tuesday-el-jalisco-n-monroe/
END:VEVENT
BEGIN:VEVENT
DTSTART;TZID=UTC:20220628T180000
DTEND;TZID=UTC:20220628T190000
DTSTAMP:20260423T035216
CREATED:20220531T181253Z
LAST-MODIFIED:20220531T181253Z
UID:27710-1656439200-1656442800@capitalcitycog.org
SUMMARY:Taco Tuesday @ La Tiendita
DESCRIPTION:1840 N Monroe St\, Tallahassee\, FL 32303
URL:https://capitalcitycog.org/event/taco-tuesday-la-tiendita/
END:VEVENT
BEGIN:VEVENT
DTSTART;TZID=UTC:20220627T183000
DTEND;TZID=UTC:20220627T200000
DTSTAMP:20260423T035216
CREATED:20220531T184950Z
LAST-MODIFIED:20220531T184950Z
UID:27722-1656354600-1656360000@capitalcitycog.org
SUMMARY:Healing Night
DESCRIPTION:
URL:https://capitalcitycog.org/event/healing-night-3/
END:VEVENT
BEGIN:VEVENT
DTSTART;TZID=UTC:20220626T120000
DTEND;TZID=UTC:20220626T130000
DTSTAMP:20260423T035216
CREATED:20220531T185041Z
LAST-MODIFIED:20220531T185041Z
UID:27724-1656244800-1656248400@capitalcitycog.org
SUMMARY:OASIS Event
DESCRIPTION:Directly following the 11am service in Building B.
URL:https://capitalcitycog.org/event/oasis-event/
END:VEVENT
BEGIN:VEVENT
DTSTART;TZID=UTC:20220621T180000
DTEND;TZID=UTC:20220621T190000
DTSTAMP:20260423T035216
CREATED:20220531T181139Z
LAST-MODIFIED:20220531T181139Z
UID:27708-1655834400-1655838000@capitalcitycog.org
SUMMARY:Taco Tuesday @ Taco Republik
DESCRIPTION:1122 Thomasville Rd\nTallahassee\, FL 32303
URL:https://capitalcitycog.org/event/taco-tuesday-taco-republik/
END:VEVENT
BEGIN:VEVENT
DTSTART;TZID=UTC:20220617T180000
DTEND;TZID=UTC:20220617T210000
DTSTAMP:20260423T035216
CREATED:20220531T204122Z
LAST-MODIFIED:20220531T204122Z
UID:27727-1655488800-1655499600@capitalcitycog.org
SUMMARY:CCKids Friday Fun Night (K-5th grade)
DESCRIPTION:
URL:https://capitalcitycog.org/event/cckids-friday-fun-night-k-5th-grade/
ATTACH;FMTTYPE=image/png:https://capitalcitycog.org/wp-content/uploads/2022/05/Copy-of-Its-Free-Food-Wednesday-Yall.png
END:VEVENT
BEGIN:VEVENT
DTSTART;TZID=UTC:20220614T180000
DTEND;TZID=UTC:20220614T200000
DTSTAMP:20260423T035216
CREATED:20220531T181022Z
LAST-MODIFIED:20220531T181022Z
UID:27706-1655229600-1655236800@capitalcitycog.org
SUMMARY:Taco Tuesday @ Tijuana Flats Pensacola St.
DESCRIPTION:Taco Tuesday @ Tijuana Flats Pensacola St.
URL:https://capitalcitycog.org/event/taco-tuesday-tijuana-flats-pensacola-st/
END:VEVENT
BEGIN:VEVENT
DTSTART;TZID=UTC:20220607T180000
DTEND;TZID=UTC:20220607T190000
DTSTAMP:20260423T035216
CREATED:20220531T180939Z
LAST-MODIFIED:20220531T180939Z
UID:27704-1654624800-1654628400@capitalcitycog.org
SUMMARY:Taco Tuesday @ El Jalisco North Monroe
DESCRIPTION:Taco Tuesday @ El Jalisco North Monroe
URL:https://capitalcitycog.org/event/taco-tuesday-el-jalisco-north-monroe/
END:VEVENT
BEGIN:VEVENT
DTSTART;TZID=UTC:20220529T110000
DTEND;TZID=UTC:20220529T120000
DTSTAMP:20260423T035216
CREATED:20220111T201128Z
LAST-MODIFIED:20220111T201128Z
UID:27432-1653822000-1653825600@capitalcitycog.org
SUMMARY:Online Only Service* Memorial Day Weekend
DESCRIPTION:Youtube.com/capitalcitychurch
URL:https://capitalcitycog.org/event/online-only-service-memorial-day-weekend/
ATTACH;FMTTYPE=image/png:https://capitalcitycog.org/wp-content/uploads/2021/03/GAME-NIGHT-2.png
END:VEVENT
BEGIN:VEVENT
DTSTART;TZID=UTC:20210825T183000
DTEND;TZID=UTC:20210825T200000
DTSTAMP:20260423T035216
CREATED:20210818T210857Z
LAST-MODIFIED:20220120T184615Z
UID:27096-1629916200-1629921600@capitalcitycog.org
SUMMARY:C3YTH & Kids Church (K-12)
DESCRIPTION:
URL:https://capitalcitycog.org/event/c3yth/2021-08-25/
LOCATION:Capital City Church\, 862 Blountstown St\, Tallahassee\, FL\, 32304\, United States
ATTACH;FMTTYPE=image/jpeg:https://capitalcitycog.org/wp-content/uploads/2021/08/c3yth-small-jpg.jpg
END:VEVENT
END:VCALENDAR