BEGIN:VCALENDAR
VERSION:2.0
PRODID:-//Capital City Church - ECPv5.9.2//NONSGML v1.0//EN
CALSCALE:GREGORIAN
METHOD:PUBLISH
X-WR-CALNAME:Capital City Church
X-ORIGINAL-URL:https://capitalcitycog.org
X-WR-CALDESC:Events for Capital City Church
BEGIN:VTIMEZONE
TZID:UTC
BEGIN:STANDARD
TZOFFSETFROM:+0000
TZOFFSETTO:+0000
TZNAME:UTC
DTSTART:20250101T000000
END:STANDARD
END:VTIMEZONE
BEGIN:VEVENT
DTSTART;TZID=UTC:20250806T180000
DTEND;TZID=UTC:20250806T190000
DTSTAMP:20260423T035213
CREATED:20240827T213755Z
LAST-MODIFIED:20240827T213755Z
UID:28847-1754503200-1754506800@capitalcitycog.org
SUMMARY:Wednesday Night Prayer
DESCRIPTION:Join us each week from 6 to 7 PM for a time of concentrated corporate intercessory prayer over our families\, our city\, our nation\, and the world.
URL:https://capitalcitycog.org/event/wednesday-night-prayer/2025-08-06/
ATTACH;FMTTYPE=image/jpeg:https://capitalcitycog.org/wp-content/uploads/2023/02/IMG_0581-scaled.jpg
END:VEVENT
BEGIN:VEVENT
DTSTART;TZID=UTC:20250811T170000
DTEND;TZID=UTC:20250811T210000
DTSTAMP:20260423T035213
CREATED:20250811T154831Z
LAST-MODIFIED:20250811T154902Z
UID:29063-1754931600-1754946000@capitalcitycog.org
SUMMARY:CHRISTIAN LIFE AND WITNESS COURSE- WILL GRAHAM FLORIDA TOUR
DESCRIPTION:Deepen your faith in Jesus Christ by discovering practical ways to share the Gospel with others and by learning\nBiblical principles for living a life that points others to Him. \nMonday\, Aug. 11 & Tuesday\, Aug. 12\, 6 p.m. \nNO COST….DOORS OPEN AT 5pm \nCapital City ChurcH\n862 Blountstown Street\nTallahassee\, FL 32304 \nFor information\, visit GoodNewsTour.com/CLWC.
URL:https://capitalcitycog.org/event/christian-life-and-witness-course-will-graham-florida-tour/
ATTACH;FMTTYPE=image/jpeg:https://capitalcitycog.org/wp-content/uploads/2025/08/GNT_CLWC_AUG11-13_TALLAHASSEE.jpeg
END:VEVENT
BEGIN:VEVENT
DTSTART;TZID=UTC:20250812T170000
DTEND;TZID=UTC:20250812T210000
DTSTAMP:20260423T035213
CREATED:20250811T155015Z
LAST-MODIFIED:20250811T155020Z
UID:29066-1755018000-1755032400@capitalcitycog.org
SUMMARY:CHRISTIAN LIFE AND WITNESS COURSE- WILL GRAHAM FL TOUR
DESCRIPTION:Deepen your faith in Jesus Christ by discovering practical ways to share the Gospel with others and by learning\nBiblical principles for living a life that points others to Him. \nMonday\, Aug. 11 & Tuesday\, Aug. 12\, 6 p.m. \nNO COST….DOORS OPEN AT 5pm \nCapital City ChurcH\n862 Blountstown Street\nTallahassee\, FL 32304 \nFor information\, visit GoodNewsTour.com/CLWC.
URL:https://capitalcitycog.org/event/christian-life-and-witness-course-will-graham-fl-tour/
ATTACH;FMTTYPE=image/jpeg:https://capitalcitycog.org/wp-content/uploads/2025/08/GNT_CLWC_AUG11-13_TALLAHASSEE.jpeg
END:VEVENT
BEGIN:VEVENT
DTSTART;TZID=UTC:20250813T180000
DTEND;TZID=UTC:20250813T190000
DTSTAMP:20260423T035213
CREATED:20240827T213755Z
LAST-MODIFIED:20240827T213755Z
UID:28848-1755108000-1755111600@capitalcitycog.org
SUMMARY:Wednesday Night Prayer
DESCRIPTION:Join us each week from 6 to 7 PM for a time of concentrated corporate intercessory prayer over our families\, our city\, our nation\, and the world.
URL:https://capitalcitycog.org/event/wednesday-night-prayer/2025-08-13/
ATTACH;FMTTYPE=image/jpeg:https://capitalcitycog.org/wp-content/uploads/2023/02/IMG_0581-scaled.jpg
END:VEVENT
BEGIN:VEVENT
DTSTART;TZID=UTC:20250820T180000
DTEND;TZID=UTC:20250820T190000
DTSTAMP:20260423T035213
CREATED:20240827T213755Z
LAST-MODIFIED:20240827T213755Z
UID:28849-1755712800-1755716400@capitalcitycog.org
SUMMARY:Wednesday Night Prayer
DESCRIPTION:Join us each week from 6 to 7 PM for a time of concentrated corporate intercessory prayer over our families\, our city\, our nation\, and the world.
URL:https://capitalcitycog.org/event/wednesday-night-prayer/2025-08-20/
ATTACH;FMTTYPE=image/jpeg:https://capitalcitycog.org/wp-content/uploads/2023/02/IMG_0581-scaled.jpg
END:VEVENT
BEGIN:VEVENT
DTSTART;TZID=UTC:20250827T180000
DTEND;TZID=UTC:20250827T190000
DTSTAMP:20260423T035213
CREATED:20240827T213755Z
LAST-MODIFIED:20240827T213755Z
UID:28850-1756317600-1756321200@capitalcitycog.org
SUMMARY:Wednesday Night Prayer
DESCRIPTION:Join us each week from 6 to 7 PM for a time of concentrated corporate intercessory prayer over our families\, our city\, our nation\, and the world.
URL:https://capitalcitycog.org/event/wednesday-night-prayer/2025-08-27/
ATTACH;FMTTYPE=image/jpeg:https://capitalcitycog.org/wp-content/uploads/2023/02/IMG_0581-scaled.jpg
END:VEVENT
BEGIN:VEVENT
DTSTART;TZID=UTC:20250831T100000
DTEND;TZID=UTC:20250831T113000
DTSTAMP:20260423T035213
CREATED:20250827T152153Z
LAST-MODIFIED:20250827T152153Z
UID:29107-1756634400-1756639800@capitalcitycog.org
SUMMARY:Upper Room Service 10AM ONLY
DESCRIPTION:Join us for Upper Room Sunday at 10 AM (one service only).\n Come with your family for a powerful morning of \nprayer\, worship\, testimonies\, and celebrating the goodness of God. \nWe hope to see you there!
URL:https://capitalcitycog.org/event/upper-room-service-10am-only/
ATTACH;FMTTYPE=image/jpeg:https://capitalcitycog.org/wp-content/uploads/2025/08/Promo_Slide.jpg
END:VEVENT
END:VCALENDAR