BEGIN:VCALENDAR
VERSION:2.0
PRODID:-//Capital City Church - ECPv5.9.2//NONSGML v1.0//EN
CALSCALE:GREGORIAN
METHOD:PUBLISH
X-WR-CALNAME:Capital City Church
X-ORIGINAL-URL:https://capitalcitycog.org
X-WR-CALDESC:Events for Capital City Church
BEGIN:VTIMEZONE
TZID:UTC
BEGIN:STANDARD
TZOFFSETFROM:+0000
TZOFFSETTO:+0000
TZNAME:UTC
DTSTART:20250101T000000
END:STANDARD
END:VTIMEZONE
BEGIN:VEVENT
DTSTART;TZID=UTC:20250903T180000
DTEND;TZID=UTC:20250903T190000
DTSTAMP:20260423T021205
CREATED:20240827T213755Z
LAST-MODIFIED:20240827T213755Z
UID:28851-1756922400-1756926000@capitalcitycog.org
SUMMARY:Wednesday Night Prayer
DESCRIPTION:Join us each week from 6 to 7 PM for a time of concentrated corporate intercessory prayer over our families\, our city\, our nation\, and the world.
URL:https://capitalcitycog.org/event/wednesday-night-prayer/2025-09-03/
ATTACH;FMTTYPE=image/jpeg:https://capitalcitycog.org/wp-content/uploads/2023/02/IMG_0581-scaled.jpg
END:VEVENT
BEGIN:VEVENT
DTSTART;TZID=UTC:20250910T180000
DTEND;TZID=UTC:20250910T190000
DTSTAMP:20260423T021205
CREATED:20240827T213755Z
LAST-MODIFIED:20240827T213755Z
UID:28852-1757527200-1757530800@capitalcitycog.org
SUMMARY:Wednesday Night Prayer
DESCRIPTION:Join us each week from 6 to 7 PM for a time of concentrated corporate intercessory prayer over our families\, our city\, our nation\, and the world.
URL:https://capitalcitycog.org/event/wednesday-night-prayer/2025-09-10/
ATTACH;FMTTYPE=image/jpeg:https://capitalcitycog.org/wp-content/uploads/2023/02/IMG_0581-scaled.jpg
END:VEVENT
BEGIN:VEVENT
DTSTART;TZID=UTC:20250917T180000
DTEND;TZID=UTC:20250917T190000
DTSTAMP:20260423T021205
CREATED:20240827T213755Z
LAST-MODIFIED:20240827T213755Z
UID:28853-1758132000-1758135600@capitalcitycog.org
SUMMARY:Wednesday Night Prayer
DESCRIPTION:Join us each week from 6 to 7 PM for a time of concentrated corporate intercessory prayer over our families\, our city\, our nation\, and the world.
URL:https://capitalcitycog.org/event/wednesday-night-prayer/2025-09-17/
ATTACH;FMTTYPE=image/jpeg:https://capitalcitycog.org/wp-content/uploads/2023/02/IMG_0581-scaled.jpg
END:VEVENT
BEGIN:VEVENT
DTSTART;TZID=UTC:20250919T180000
DTEND;TZID=UTC:20250919T220000
DTSTAMP:20260423T021205
CREATED:20250910T214736Z
LAST-MODIFIED:20250910T214736Z
UID:29150-1758304800-1758319200@capitalcitycog.org
SUMMARY:Burn Night
DESCRIPTION:Join us on the special night of worship and intercession. We will concentrate on praying for our country our state\, our cities\, our families and specific prayer points. During this time\, it will be a free flowing prophetic worship style\, and prayer time. Bring the whole family out and let’s pray and intercede for our world!
URL:https://capitalcitycog.org/event/burn-night/
ATTACH;FMTTYPE=image/png:https://capitalcitycog.org/wp-content/uploads/2025/09/IMG_0152.png
END:VEVENT
BEGIN:VEVENT
DTSTART;TZID=UTC:20250924T180000
DTEND;TZID=UTC:20250924T190000
DTSTAMP:20260423T021205
CREATED:20240827T213755Z
LAST-MODIFIED:20240827T213755Z
UID:28854-1758736800-1758740400@capitalcitycog.org
SUMMARY:Wednesday Night Prayer
DESCRIPTION:Join us each week from 6 to 7 PM for a time of concentrated corporate intercessory prayer over our families\, our city\, our nation\, and the world.
URL:https://capitalcitycog.org/event/wednesday-night-prayer/2025-09-24/
ATTACH;FMTTYPE=image/jpeg:https://capitalcitycog.org/wp-content/uploads/2023/02/IMG_0581-scaled.jpg
END:VEVENT
END:VCALENDAR