BEGIN:VCALENDAR
VERSION:2.0
PRODID:-//Capital City Church - ECPv5.9.2//NONSGML v1.0//EN
CALSCALE:GREGORIAN
METHOD:PUBLISH
X-WR-CALNAME:Capital City Church
X-ORIGINAL-URL:https://capitalcitycog.org
X-WR-CALDESC:Events for Capital City Church
BEGIN:VTIMEZONE
TZID:UTC
BEGIN:STANDARD
TZOFFSETFROM:+0000
TZOFFSETTO:+0000
TZNAME:UTC
DTSTART:20250101T000000
END:STANDARD
END:VTIMEZONE
BEGIN:VEVENT
DTSTART;TZID=UTC:20251105T180000
DTEND;TZID=UTC:20251105T190000
DTSTAMP:20260422T215406
CREATED:20240827T213755Z
LAST-MODIFIED:20240827T213755Z
UID:28860-1762365600-1762369200@capitalcitycog.org
SUMMARY:Wednesday Night Prayer
DESCRIPTION:Join us each week from 6 to 7 PM for a time of concentrated corporate intercessory prayer over our families\, our city\, our nation\, and the world.
URL:https://capitalcitycog.org/event/wednesday-night-prayer/2025-11-05/
ATTACH;FMTTYPE=image/jpeg:https://capitalcitycog.org/wp-content/uploads/2023/02/IMG_0581-scaled.jpg
END:VEVENT
BEGIN:VEVENT
DTSTART;TZID=UTC:20251112T180000
DTEND;TZID=UTC:20251112T190000
DTSTAMP:20260422T215406
CREATED:20240827T213755Z
LAST-MODIFIED:20240827T213755Z
UID:28861-1762970400-1762974000@capitalcitycog.org
SUMMARY:Wednesday Night Prayer
DESCRIPTION:Join us each week from 6 to 7 PM for a time of concentrated corporate intercessory prayer over our families\, our city\, our nation\, and the world.
URL:https://capitalcitycog.org/event/wednesday-night-prayer/2025-11-12/
ATTACH;FMTTYPE=image/jpeg:https://capitalcitycog.org/wp-content/uploads/2023/02/IMG_0581-scaled.jpg
END:VEVENT
BEGIN:VEVENT
DTSTART;TZID=UTC:20251119T180000
DTEND;TZID=UTC:20251119T190000
DTSTAMP:20260422T215406
CREATED:20240827T213755Z
LAST-MODIFIED:20240827T213755Z
UID:28862-1763575200-1763578800@capitalcitycog.org
SUMMARY:Wednesday Night Prayer
DESCRIPTION:Join us each week from 6 to 7 PM for a time of concentrated corporate intercessory prayer over our families\, our city\, our nation\, and the world.
URL:https://capitalcitycog.org/event/wednesday-night-prayer/2025-11-19/
ATTACH;FMTTYPE=image/jpeg:https://capitalcitycog.org/wp-content/uploads/2023/02/IMG_0581-scaled.jpg
END:VEVENT
BEGIN:VEVENT
DTSTART;TZID=UTC:20251126T180000
DTEND;TZID=UTC:20251126T190000
DTSTAMP:20260422T215406
CREATED:20240827T213755Z
LAST-MODIFIED:20240827T213755Z
UID:28863-1764180000-1764183600@capitalcitycog.org
SUMMARY:Wednesday Night Prayer
DESCRIPTION:Join us each week from 6 to 7 PM for a time of concentrated corporate intercessory prayer over our families\, our city\, our nation\, and the world.
URL:https://capitalcitycog.org/event/wednesday-night-prayer/2025-11-26/
ATTACH;FMTTYPE=image/jpeg:https://capitalcitycog.org/wp-content/uploads/2023/02/IMG_0581-scaled.jpg
END:VEVENT
BEGIN:VEVENT
DTSTART;TZID=UTC:20251126T180000
DTEND;TZID=UTC:20251126T200000
DTSTAMP:20260422T215406
CREATED:20250827T125454Z
LAST-MODIFIED:20250827T130236Z
UID:29092-1764180000-1764187200@capitalcitycog.org
SUMMARY:NO Midweek Service- Happy Thanksgiving
DESCRIPTION:“No midweek service this week as we pause for the holiday.\n Take this time to enjoy your family\, celebrate God’s goodness\, \nand practice gratitude and thanks-living together.” \n 
URL:https://capitalcitycog.org/event/no-midweek-service-happy-thanksgiving/
ATTACH;FMTTYPE=image/jpeg:https://capitalcitycog.org/wp-content/uploads/2025/08/Promo-Slide-2.jpg
END:VEVENT
BEGIN:VEVENT
DTSTART;TZID=UTC:20251130T100000
DTEND;TZID=UTC:20251130T113000
DTSTAMP:20260422T215406
CREATED:20250827T152339Z
LAST-MODIFIED:20250827T152339Z
UID:29110-1764496800-1764502200@capitalcitycog.org
SUMMARY:UPPER ROOM WORSHIP SERVICE
DESCRIPTION:Join us for Upper Room Sunday at 10 AM (one service only).\nCome with your family for a powerful morning of\nprayer\, worship\, testimonies\, and celebrating the goodness of God.\nWe hope to see you there!
URL:https://capitalcitycog.org/event/upper-room-worship-service/
ATTACH;FMTTYPE=image/jpeg:https://capitalcitycog.org/wp-content/uploads/2025/08/Promo_Slide.jpg
END:VEVENT
END:VCALENDAR