BEGIN:VCALENDAR
VERSION:2.0
PRODID:-//Capital City Church - ECPv5.9.2//NONSGML v1.0//EN
CALSCALE:GREGORIAN
METHOD:PUBLISH
X-WR-CALNAME:Capital City Church
X-ORIGINAL-URL:https://capitalcitycog.org
X-WR-CALDESC:Events for Capital City Church
BEGIN:VTIMEZONE
TZID:UTC
BEGIN:STANDARD
TZOFFSETFROM:+0000
TZOFFSETTO:+0000
TZNAME:UTC
DTSTART:20260101T000000
END:STANDARD
END:VTIMEZONE
BEGIN:VEVENT
DTSTART;TZID=UTC:20260204T180000
DTEND;TZID=UTC:20260204T190000
DTSTAMP:20260422T172041
CREATED:20240827T213755Z
LAST-MODIFIED:20240827T213755Z
UID:28873-1770228000-1770231600@capitalcitycog.org
SUMMARY:Wednesday Night Prayer
DESCRIPTION:Join us each week from 6 to 7 PM for a time of concentrated corporate intercessory prayer over our families\, our city\, our nation\, and the world.
URL:https://capitalcitycog.org/event/wednesday-night-prayer/2026-02-04/
ATTACH;FMTTYPE=image/jpeg:https://capitalcitycog.org/wp-content/uploads/2023/02/IMG_0581-scaled.jpg
END:VEVENT
BEGIN:VEVENT
DTSTART;TZID=UTC:20260211T180000
DTEND;TZID=UTC:20260211T190000
DTSTAMP:20260422T172041
CREATED:20240827T213755Z
LAST-MODIFIED:20240827T213755Z
UID:28874-1770832800-1770836400@capitalcitycog.org
SUMMARY:Wednesday Night Prayer
DESCRIPTION:Join us each week from 6 to 7 PM for a time of concentrated corporate intercessory prayer over our families\, our city\, our nation\, and the world.
URL:https://capitalcitycog.org/event/wednesday-night-prayer/2026-02-11/
ATTACH;FMTTYPE=image/jpeg:https://capitalcitycog.org/wp-content/uploads/2023/02/IMG_0581-scaled.jpg
END:VEVENT
BEGIN:VEVENT
DTSTART;TZID=UTC:20260214T170000
DTEND;TZID=UTC:20260214T200000
DTSTAMP:20260422T172041
CREATED:20260213T144726Z
LAST-MODIFIED:20260213T144726Z
UID:29187-1771088400-1771099200@capitalcitycog.org
SUMMARY:Parent’s Night Out ❤️
DESCRIPTION:Saturday\, February 14 | 5:00 PM – 8:00 PM \nEnjoy a well-deserved date night while we take care of the kids! \nDrop your children off for an evening filled with fun\, laughter\, and safe\, supervised activities. We’ll have exciting games\, creative crafts\, and plenty of snacks provided. Our team is ready to make it a night your kids will love — while you enjoy a relaxing and refreshing night out. \nTake the time to connect\, recharge\, and celebrate — we’ve got the rest covered! \nWe can’t wait to see you there!
URL:https://capitalcitycog.org/event/parents-night-out-%e2%9d%a4%ef%b8%8f/
ATTACH;FMTTYPE=image/jpeg:https://capitalcitycog.org/wp-content/uploads/2026/02/IMG_0273.jpeg
END:VEVENT
BEGIN:VEVENT
DTSTART;TZID=UTC:20260218T180000
DTEND;TZID=UTC:20260218T190000
DTSTAMP:20260422T172041
CREATED:20240827T213755Z
LAST-MODIFIED:20240827T213755Z
UID:28875-1771437600-1771441200@capitalcitycog.org
SUMMARY:Wednesday Night Prayer
DESCRIPTION:Join us each week from 6 to 7 PM for a time of concentrated corporate intercessory prayer over our families\, our city\, our nation\, and the world.
URL:https://capitalcitycog.org/event/wednesday-night-prayer/2026-02-18/
ATTACH;FMTTYPE=image/jpeg:https://capitalcitycog.org/wp-content/uploads/2023/02/IMG_0581-scaled.jpg
END:VEVENT
BEGIN:VEVENT
DTSTART;TZID=UTC:20260218T190000
DTEND;TZID=UTC:20260218T200000
DTSTAMP:20260422T172041
CREATED:20260213T161724Z
LAST-MODIFIED:20260213T161724Z
UID:29223-1771441200-1771444800@capitalcitycog.org
SUMMARY:📖   Wednesday Night Bible Study
DESCRIPTION:Wednesdays | 7:00 PM \nJoin us each Wednesday night at 7:00 PM as we gather around God’s Word and grow together through our 52-Week Bible Reading Guide. Each week\, we focus on the assigned chapter\, opening it up in discussion\, asking questions\, sharing insights\, and listening for what God is saying through Scripture. This is not just a lecture — it’s an interactive\, engaging time of learning and spiritual growth.\nTogether\, we explore: \n\nWhat the passage means\nWhat we’re learning personally\nHow to study the Bible more effectively\nHow to apply God’s Word to everyday life\n\nWhether you’re new to studying the Bible or have been reading it for years\, this is a place to deepen your understanding\, strengthen your faith\, and grow in community. \nCome ready to learn\, share\, and be encouraged. \n 
URL:https://capitalcitycog.org/event/%f0%9f%93%96-wednesday-night-bible-study/2026-02-18/
ATTACH;FMTTYPE=image/jpeg:https://capitalcitycog.org/wp-content/uploads/2026/02/IMG_0284.jpeg
END:VEVENT
BEGIN:VEVENT
DTSTART;TZID=UTC:20260223T183000
DTEND;TZID=UTC:20260223T193000
DTSTAMP:20260422T172041
CREATED:20260213T145405Z
LAST-MODIFIED:20260213T145405Z
UID:29190-1771871400-1771875000@capitalcitycog.org
SUMMARY:NIGHT OF HEALING ✨
DESCRIPTION:Every Fourth Monday | 6:30 PM \n“Come to Me\, all you who are weary and heavy laden\, and I will give you rest.”\nIf you’re feeling weary\, worn out\, or in need of healing — spiritually\, physically\, emotionally\, or mentally — this service is for you. \nNight of Healing is a focused time of worship\, prayer\, and ministry in the presence of God. We believe that healing flows from His heart\, that peace replaces anxiety\, strength rises in weakness\, and restoration is found at His feet. “By His stripes\, you are healed.” \nInvite a friend or loved one to come with you. There is power when we gather in faith\, and everything you need is found in His presence. \nCome expecting renewal.\nCome expecting breakthrough.\nCome ready to live whole — with meaning\, purpose\, and freedom.
URL:https://capitalcitycog.org/event/night-of-healing-%e2%9c%a8/2026-02-23/
ATTACH;FMTTYPE=image/png:https://capitalcitycog.org/wp-content/uploads/2024/02/HEALING-NIGT-SLIDE.png
END:VEVENT
BEGIN:VEVENT
DTSTART;TZID=UTC:20260225T180000
DTEND;TZID=UTC:20260225T190000
DTSTAMP:20260422T172041
CREATED:20240827T213755Z
LAST-MODIFIED:20240827T213755Z
UID:28876-1772042400-1772046000@capitalcitycog.org
SUMMARY:Wednesday Night Prayer
DESCRIPTION:Join us each week from 6 to 7 PM for a time of concentrated corporate intercessory prayer over our families\, our city\, our nation\, and the world.
URL:https://capitalcitycog.org/event/wednesday-night-prayer/2026-02-25/
ATTACH;FMTTYPE=image/jpeg:https://capitalcitycog.org/wp-content/uploads/2023/02/IMG_0581-scaled.jpg
END:VEVENT
BEGIN:VEVENT
DTSTART;TZID=UTC:20260225T190000
DTEND;TZID=UTC:20260225T200000
DTSTAMP:20260422T172041
CREATED:20260213T161724Z
LAST-MODIFIED:20260213T161724Z
UID:29226-1772046000-1772049600@capitalcitycog.org
SUMMARY:📖   Wednesday Night Bible Study
DESCRIPTION:Wednesdays | 7:00 PM \nJoin us each Wednesday night at 7:00 PM as we gather around God’s Word and grow together through our 52-Week Bible Reading Guide. Each week\, we focus on the assigned chapter\, opening it up in discussion\, asking questions\, sharing insights\, and listening for what God is saying through Scripture. This is not just a lecture — it’s an interactive\, engaging time of learning and spiritual growth.\nTogether\, we explore: \n\nWhat the passage means\nWhat we’re learning personally\nHow to study the Bible more effectively\nHow to apply God’s Word to everyday life\n\nWhether you’re new to studying the Bible or have been reading it for years\, this is a place to deepen your understanding\, strengthen your faith\, and grow in community. \nCome ready to learn\, share\, and be encouraged. \n 
URL:https://capitalcitycog.org/event/%f0%9f%93%96-wednesday-night-bible-study/2026-02-25/
ATTACH;FMTTYPE=image/jpeg:https://capitalcitycog.org/wp-content/uploads/2026/02/IMG_0284.jpeg
END:VEVENT
END:VCALENDAR