BEGIN:VCALENDAR
VERSION:2.0
PRODID:-//Capital City Church - ECPv5.9.2//NONSGML v1.0//EN
CALSCALE:GREGORIAN
METHOD:PUBLISH
X-WR-CALNAME:Capital City Church
X-ORIGINAL-URL:https://capitalcitycog.org
X-WR-CALDESC:Events for Capital City Church
BEGIN:VTIMEZONE
TZID:UTC
BEGIN:STANDARD
TZOFFSETFROM:+0000
TZOFFSETTO:+0000
TZNAME:UTC
DTSTART:20250101T000000
END:STANDARD
END:VTIMEZONE
BEGIN:VEVENT
DTSTART;TZID=UTC:20251217T180000
DTEND;TZID=UTC:20251217T190000
DTSTAMP:20260423T003248
CREATED:20240827T213755Z
LAST-MODIFIED:20240827T213755Z
UID:28866-1765994400-1765998000@capitalcitycog.org
SUMMARY:Wednesday Night Prayer
DESCRIPTION:Join us each week from 6 to 7 PM for a time of concentrated corporate intercessory prayer over our families\, our city\, our nation\, and the world.
URL:https://capitalcitycog.org/event/wednesday-night-prayer/2025-12-17/
ATTACH;FMTTYPE=image/jpeg:https://capitalcitycog.org/wp-content/uploads/2023/02/IMG_0581-scaled.jpg
END:VEVENT
BEGIN:VEVENT
DTSTART;TZID=UTC:20251221T080000
DTEND;TZID=UTC:20251221T120000
DTSTAMP:20260423T003248
CREATED:20251214T143950Z
LAST-MODIFIED:20251214T143950Z
UID:29171-1766304000-1766318400@capitalcitycog.org
SUMMARY:DEC 21st 10am ONLY
DESCRIPTION:There will be not be a 9am or 11am o’clock service today… Today will be a 10 AM service only with \, prayer\, and message.
URL:https://capitalcitycog.org/event/dec-21st-10am-only/
ATTACH;FMTTYPE=image/png:https://capitalcitycog.org/wp-content/uploads/2025/12/10-am-only-Presentation-43-2.png
END:VEVENT
END:VCALENDAR