BEGIN:VCALENDAR
VERSION:2.0
PRODID:-//Capital City Church - ECPv5.9.2//NONSGML v1.0//EN
CALSCALE:GREGORIAN
METHOD:PUBLISH
X-WR-CALNAME:Capital City Church
X-ORIGINAL-URL:https://capitalcitycog.org
X-WR-CALDESC:Events for Capital City Church
BEGIN:VTIMEZONE
TZID:UTC
BEGIN:STANDARD
TZOFFSETFROM:+0000
TZOFFSETTO:+0000
TZNAME:UTC
DTSTART:20250101T000000
END:STANDARD
END:VTIMEZONE
BEGIN:VEVENT
DTSTART;TZID=UTC:20251224T180000
DTEND;TZID=UTC:20251224T190000
DTSTAMP:20260422T220058
CREATED:20240827T213755Z
LAST-MODIFIED:20240827T213755Z
UID:28867-1766599200-1766602800@capitalcitycog.org
SUMMARY:Wednesday Night Prayer
DESCRIPTION:Join us each week from 6 to 7 PM for a time of concentrated corporate intercessory prayer over our families\, our city\, our nation\, and the world.
URL:https://capitalcitycog.org/event/wednesday-night-prayer/2025-12-24/
ATTACH;FMTTYPE=image/jpeg:https://capitalcitycog.org/wp-content/uploads/2023/02/IMG_0581-scaled.jpg
END:VEVENT
BEGIN:VEVENT
DTSTART;TZID=UTC:20251224T180000
DTEND;TZID=UTC:20251224T190000
DTSTAMP:20260422T220058
CREATED:20250827T134812Z
LAST-MODIFIED:20250827T134812Z
UID:29098-1766599200-1766602800@capitalcitycog.org
SUMMARY:Christmas Eve Service
DESCRIPTION:“Join us for our Christmas Candlelight Service at 6 PM!\nWe’ll sing carols\, hear the Christmas story\,\nand celebrate the birth of our Lord and Savior.\nMerry Christmas—we can’t wait to see you and your family there!”
URL:https://capitalcitycog.org/event/christmas-eve-service-4/
ATTACH;FMTTYPE=image/png:https://capitalcitycog.org/wp-content/uploads/2025/08/IMG_0112.png
END:VEVENT
BEGIN:VEVENT
DTSTART;TZID=UTC:20251228T070000
DTEND;TZID=UTC:20251228T120000
DTSTAMP:20260422T220058
CREATED:20251214T143613Z
LAST-MODIFIED:20251214T143613Z
UID:29167-1766905200-1766923200@capitalcitycog.org
SUMMARY:HOME FOR THE HOLIDAYS
DESCRIPTION:There will be NO SERVICE TODAY- December 28th. We invite you to enjoy your family and friends during this holiday season. We will resume services on January 4\, 2026 9am and 11am. Merry Christmas and Happy New Year!!
URL:https://capitalcitycog.org/event/home-for-the-holidays/
ATTACH;FMTTYPE=image/png:https://capitalcitycog.org/wp-content/uploads/2025/12/10-am-only-Presentation-43.png
END:VEVENT
END:VCALENDAR