BEGIN:VCALENDAR
VERSION:2.0
PRODID:-//Capital City Church - ECPv5.9.2//NONSGML v1.0//EN
CALSCALE:GREGORIAN
METHOD:PUBLISH
X-WR-CALNAME:Capital City Church
X-ORIGINAL-URL:https://capitalcitycog.org
X-WR-CALDESC:Events for Capital City Church
BEGIN:VTIMEZONE
TZID:UTC
BEGIN:STANDARD
TZOFFSETFROM:+0000
TZOFFSETTO:+0000
TZNAME:UTC
DTSTART:20260101T000000
END:STANDARD
END:VTIMEZONE
BEGIN:VEVENT
DTSTART;TZID=UTC:20260401T180000
DTEND;TZID=UTC:20260401T190000
DTSTAMP:20260422T195427
CREATED:20240827T213755Z
LAST-MODIFIED:20240827T213755Z
UID:28881-1775066400-1775070000@capitalcitycog.org
SUMMARY:Wednesday Night Prayer
DESCRIPTION:Join us each week from 6 to 7 PM for a time of concentrated corporate intercessory prayer over our families\, our city\, our nation\, and the world.
URL:https://capitalcitycog.org/event/wednesday-night-prayer/2026-04-01/
ATTACH;FMTTYPE=image/jpeg:https://capitalcitycog.org/wp-content/uploads/2023/02/IMG_0581-scaled.jpg
END:VEVENT
BEGIN:VEVENT
DTSTART;TZID=UTC:20260401T190000
DTEND;TZID=UTC:20260401T200000
DTSTAMP:20260422T195427
CREATED:20260213T161724Z
LAST-MODIFIED:20260213T161724Z
UID:29231-1775070000-1775073600@capitalcitycog.org
SUMMARY:📖   Wednesday Night Bible Study
DESCRIPTION:Wednesdays | 7:00 PM \nJoin us each Wednesday night at 7:00 PM as we gather around God’s Word and grow together through our 52-Week Bible Reading Guide. Each week\, we focus on the assigned chapter\, opening it up in discussion\, asking questions\, sharing insights\, and listening for what God is saying through Scripture. This is not just a lecture — it’s an interactive\, engaging time of learning and spiritual growth.\nTogether\, we explore: \n\nWhat the passage means\nWhat we’re learning personally\nHow to study the Bible more effectively\nHow to apply God’s Word to everyday life\n\nWhether you’re new to studying the Bible or have been reading it for years\, this is a place to deepen your understanding\, strengthen your faith\, and grow in community. \nCome ready to learn\, share\, and be encouraged. \n 
URL:https://capitalcitycog.org/event/%f0%9f%93%96-wednesday-night-bible-study/2026-04-01/
ATTACH;FMTTYPE=image/jpeg:https://capitalcitycog.org/wp-content/uploads/2026/02/IMG_0284.jpeg
END:VEVENT
BEGIN:VEVENT
DTSTART;TZID=UTC:20260405T000000
DTEND;TZID=UTC:20260405T000000
DTSTAMP:20260422T195427
CREATED:20260213T162608Z
LAST-MODIFIED:20260213T162608Z
UID:29248-1775347200-1775347200@capitalcitycog.org
SUMMARY:🌅   Resurrection Sunday!!!!
DESCRIPTION:April 5 | 9:00 AM & 11:00 AM \nHe is risen! Join us this Resurrection Sunday as we celebrate the victory\, hope\, and life found in Jesus Christ. \nCome experience powerful worship\, uplifting songs\, and a message filled with hope as we rejoice in His resurrection. We gather to celebrate His life\, His love\, and His invitation to eternal life for all who believe. Resurrection Sunday is more than a tradition — it is a celebration of new beginnings\, restored hope\, and the promise that Jesus is alive forever. \nInvite a friend. Bring your family. Come expectant.\nLet’s celebrate together — because Jesus is alive!
URL:https://capitalcitycog.org/event/%f0%9f%8c%85-resurrection-sunday/
ATTACH;FMTTYPE=image/jpeg:https://capitalcitycog.org/wp-content/uploads/2026/02/IMG_0285.jpeg
END:VEVENT
END:VCALENDAR